BEGIN:VCALENDAR
VERSION:2.0
PRODID:-//Agencija POTI - Z znanjem do cilja - ECPv6.0.11//NONSGML v1.0//EN
CALSCALE:GREGORIAN
METHOD:PUBLISH
X-ORIGINAL-URL:https://www.agencija-poti.si
X-WR-CALDESC:Dogodki za Agencija POTI - Z znanjem do cilja
REFRESH-INTERVAL;VALUE=DURATION:PT1H
X-Robots-Tag:noindex
X-PUBLISHED-TTL:PT1H
BEGIN:VTIMEZONE
TZID:UTC
BEGIN:STANDARD
TZOFFSETFROM:+0000
TZOFFSETTO:+0000
TZNAME:UTC
DTSTART:20260101T000000
END:STANDARD
END:VTIMEZONE
BEGIN:VEVENT
DTSTART;TZID=UTC:20260707T090000
DTEND;TZID=UTC:20260707T153000
DTSTAMP:20260422T033616
CREATED:20200312T133105Z
LAST-MODIFIED:20260319T094726Z
UID:747-1783414800-1783438200@www.agencija-poti.si
SUMMARY:Uspešna pogajanja za nemško govoreča tržišča v nemškem jeziku
DESCRIPTION:Kako obvladovati stroške izdelkov v času cenovnih pritiskov in tržnih motenj?Kje vse se v vaših izdelkih skrivajo stroški?Kateri so skriti potenciali za znižanje stroškov izdelkov?Globalna konkurenca\, moderne tehnologije in trendi\, ki omogočajo primerjanje cen in večjo informiranost kupcev ustvarjajo cenovne pritiske. Kupci so pripravljeni plačati za (višjo) kakovost naših izdelkov\, ki izpolnjujejo njihove potrebe in zahteve\, niso pa pripravljeni plačevati neučinkovitosti. Na trgu se stalno pojavljajo tudi različne motnje\, ki povzročajo povišanje cen posameznih surovin in materialov. Ključna je hitra reakcija in iskanje načinov za pocenitev izdelkov\, torej stroškovna optimiziranost ter dobro vpeljani procesi obvladovanja stroškov. Le tako je podjetje sposobno pravočasno odreagirati na spremenjene tržne razmere. Podjetja\, ki so pri tovrstnih motnjah sposobna najti rezerve in omiliti rast stroškov izdelkov\, hitreje povečujejo tržni delež na račun podjetij\, ki tega niso sposobna narediti. Pri uvedbah sprememb za zniževanje stroškov in stroškovno učinkovitost izdelkov je pomembno sodelovanje več oddelkov – prodajnikov\, tehnologov\, razvojnikov\, nabavnikov ter projektnih ali produktnih vodij. Namen praktično naravnanega strokovnega izobraževanja je predvsem izpostaviti: pomembnost stalnih izboljšav v procesih in pri materialih ter vključitev (miselnosti) stroškovne občutljivosti / učinkovitosti že pri razvoju novih izdelkov\,pomembnost nadzora nad stroški obstoječih izdelkov v asortimanu\,pravočasno prepoznavanje možnosti za pocenitev ali izboljšave izdelkov\,možne pasti nižanja stroškov in kdaj se je aktivnosti bolje odreči.Vabljeni: vodstvo podjetij in podjetniki\,vodje projektov in produktni vodjetehnologi\,vodje oddelkov\, ki vplivajo na stroške izdelkov\,člani obstoječih ekip za zniževanje stroškov\,vsi\, ki ste vpleteni v proces optimizacije oz. zniževanja stroškov izdelkov\,vsi\, ki vas to področje zanima								\n				\n					\n		\n					\n		\n				\n						\n					\n			\n						\n				\n							\n			\n						\n		\n						\n				\n					\n		\n					\n		\n				\n						\n					\n			\n						\n				\n					Stroškovna optimizacija izdelkov v praksi\nTERMIN: 14. 5. 2026 (od 9:00 do 15:30) 				\n				\n					\n		\n				\n			\n						\n				\n									\n					\n						\n									Prijavite se\n					\n					\n				\n								\n				\n					\n		\n					\n		\n				\n						\n					\n			\n						\n				\n							\n							\n					\n												\n															\n								\n													\n												Program\n					\n\n					Kdaj je najbolj primeren čas za iskanje in implementiranje idej za zniževanje stroškov? Kakšna organiziranost za zajezitev stroškov je najbolj primerna za vaše podjetje in od česa je odvisna (glede na tip\, organiziranost in velikost podjetja)? Kaj so (vsebinsko) aktivnosti za zniževanje stroškov in kako se jih lotiti? Katere so lastnosti dobrega projektnega vodje / vodje ekipe za obvladovanje stroškov? Kako sestaviti ekipo za obvladovanje stroškov v podjetju? Kako iskati ideje za dodatno stroškovno optimizacijo oziroma nove pocenitve? Kateri so kriteriji\, po katerih se odločamo katere aktivnosti bomo izvedli in katerih ne? S katerimi začeti najprej in s katerimi počakati? Različni tipi aktivnosti za zniževanje stroškov\, Ocena finančne smiselnosti aktivnosti: kateri dejavniki vplivajo na finančno smiselnost? Ocena idej za zniževanje stroškov: kateri dejavniki (lahko) aktivnost ustavijo še preden se začne? Koliko tveganja smo pripravljeni sprejeti oziroma koliko ga je smiselno? Kdaj je aktivnost za zniževanje stroškov končana / implementirana? Razvoj stroškovno optimiziranega izdelka vs. naknadna stroškovna optimizacija obstoječega izdelka\, Cilji organiziranega in strateško zastavljenega obvladovanja stroškov v podjetju\, Primeri dobre prakse in zaključna diskusija \n				\n							\n					\n												\n															\n								\n													\n												Predavatelj\n					\n\n					mag. Jaka Japelj\, je ekonomist (smer Finance) in magister znanosti s področja ekonomije\, z delovnimi izkušnjami na različnih področjih dela in v različnih panogah. Dolgo časa je deloval v podjetništvu na področju medicinskih in terapevtskih pripomočkov\, pa tudi v multinacionalnih podjetjih v gospodarstvu\, kot finančni analitik\, vodja projektov in vodja (mednarodnega) oddelka. Pri vodenju kompleksnih\, za podjetje strateško pomembnih projektov\, je predstavljal ključni vezni člen med zahtevami kupcev in njihovo implementacijo ter prilagoditvijo (customization) izdelkov (industrijskih pogonskih sistemov) za posameznega kupca\, kjer je posebno pozornost namenjal tudi stroškovni učinkovitosti in konkurenčnosti tako nastalih novih izdelkov. Sočasno je vodil tudi tudi stalno medoddelčno ekipo za zniževanje stroškov\, z namenom uvajanja ukrepov za zniževanje stroškov po celotnem asortimanu podjetja in posledično izboljšanja celotne profitabilnosti izdelkov in družin izdelkov.  S tem je združil iznajdlivost in motivacijo podjetnika\, da se stvari naredijo\, z resursi\, znanjem in (velikimi) ekipami multinacionalnih podjetij\, za doseganje stroškovne optimizacije izdelkov\, ki je poleg inovativnosti in kakovosti izdelkov\, bistvena za konkurenčno prednost in dolgoročno uspešnost podjetja. \n				\n							\n					\n												\n															\n								\n													\n												Priporočljiva strokovna literatura\n					\n\n					\nKnjigeProjektni management – teorija in praksaOblikovanje poslovnih modelovUstvarjalnost in inovativnost\n				\n							\n					\n												\n															\n								\n													\n												Morda vas zanima tudi\n					\n\n					Uspešno lansiranje izdelkov – od ideje do uspeha na trguNOVA Uredba o okoljsko primerni zasnovi za TRAJNOSTNE IZDELKE (ESPR)Obvladovanje proizvodnih stroškovPlaniranje in vodenje naročniške oz. maloserijske proizvodnjeOptimizacija proizvodnih procesov | Sodobne digitalne rešitve in umetna inteligencaIzredne situacije | Preventiva\, ukrepanje in obvladovanje tveganj v podjetjih oz. organizacijah in okoljuBusiness Case Study | Poslovna študija primera\n				\n								\n						\n				\n					\n		\n					\n		\n				\n						\n					\n			\n						\n				\n					Kotizacija 				\n				\n				\n				\n									268\,00 € + 22 % DDV Plačilo z DDV tako znaša 326\,96 € in vključuje strokovno predavanje\, prikaz primerov iz prakse z obrazložitvami\, seminarsko gradivo in materiale oz. pripomočke\, potrdilo o udeležbi na izobraževanju in prigrizke in napitke med odmori. Kotizacijo prosimo nakažite po prejetem predračunu na transakcijski račun št. SI56 3300 0000 1159 917\, odprt pri Addiko Bank d.d.\, najkasneje 3 dni pred izvedbo izobraževanja. Po izobraževanju vam bomo po pošti poslali račun. Zadnji rok za odjavo udeležbe je 2 dni pred izvedbo izobraževanja\, v nasprotnem primeru vam bomo zaračunali stroške v višini 20 % kotizacije. 								\n				\n				\n				\n									\n					\n						\n									Prijavite se\n					\n					\n				\n								\n				\n				\n				\n									Obvesti me o naslednjem terminu >								\n				\n					\n		\n				\n			\n						\n				\n																														\n				\n				\n				\n					Dodatne ugodnosti 				\n				\n				\n				\n									Zgodnje prijave: 10 % popust za prijavo in plačilo do 3 tedne pred izvedbo izobraževanja. Fizične osebe: stalni 30 % popust na kotizacijo. Ugodnosti se ne seštevajo!
URL:https://www.agencija-poti.si/izobrazevanje/pogajanja-za-nemsko-govoreca-trzisca/
LOCATION:Agencija POTI\, Stegne 7\, Ljubljana
CATEGORIES:Dvig konkurenčnosti,Sodobne metode povečevanja prodaje,Učinkovite tehnike pogajanj
ATTACH;FMTTYPE=image/jpeg:https://www.agencija-poti.si/wp-content/uploads/2020/03/nemska-pogajanja.jpg
ORGANIZER;CN="Agencija%20POTI%20-%20z%20znanjem%20do%20cilja%21":MAILTO:info@agencija-poti.si
END:VEVENT
END:VCALENDAR